BEGIN:VCALENDAR
VERSION:2.0
PRODID:-//St. Augustine History Festival - ECPv6.15.12//NONSGML v1.0//EN
CALSCALE:GREGORIAN
METHOD:PUBLISH
X-ORIGINAL-URL:https://www.staugustinehistoryfestival.com
X-WR-CALDESC:Events for St. Augustine History Festival
REFRESH-INTERVAL;VALUE=DURATION:PT1H
X-Robots-Tag:noindex
X-PUBLISHED-TTL:PT1H
BEGIN:VTIMEZONE
TZID:America/New_York
BEGIN:DAYLIGHT
TZOFFSETFROM:-0500
TZOFFSETTO:-0400
TZNAME:EDT
DTSTART:20250309T070000
END:DAYLIGHT
BEGIN:STANDARD
TZOFFSETFROM:-0400
TZOFFSETTO:-0500
TZNAME:EST
DTSTART:20251102T060000
END:STANDARD
BEGIN:DAYLIGHT
TZOFFSETFROM:-0500
TZOFFSETTO:-0400
TZNAME:EDT
DTSTART:20260308T070000
END:DAYLIGHT
BEGIN:STANDARD
TZOFFSETFROM:-0400
TZOFFSETTO:-0500
TZNAME:EST
DTSTART:20261101T060000
END:STANDARD
BEGIN:DAYLIGHT
TZOFFSETFROM:-0500
TZOFFSETTO:-0400
TZNAME:EDT
DTSTART:20270314T070000
END:DAYLIGHT
BEGIN:STANDARD
TZOFFSETFROM:-0400
TZOFFSETTO:-0500
TZNAME:EST
DTSTART:20271107T060000
END:STANDARD
END:VTIMEZONE
BEGIN:VEVENT
DTSTART;TZID=America/New_York:20260507T173000
DTEND;TZID=America/New_York:20260507T193000
DTSTAMP:20260425T091253
CREATED:20220415T123020Z
LAST-MODIFIED:20260319T204746Z
UID:10000004-1778175000-1778182200@www.staugustinehistoryfestival.com
SUMMARY:St. Augustine Historical Society
DESCRIPTION:[vc_row][vc_column][vc_column_text css=””] \nJoin us as we celebrate the 2026 Herschel Shepard Award for Excellence in Historic Preservation\, Thursday\, May 7\, from 5:30p.m.-7:30p.m.\nThe St. Augustine Historical Society is proud to announce that Gordon J. “Gordie” Wilson has been selected as the 2026 recipient of the Herschel Shepard Award for Excellence in Historic Preservation. This distinguished honor recognizes individuals whose vision\, leadership\, and lifelong dedication have made an extraordinary impact on the preservation of St. Augustine’s historical legacy. \nFor more than three decades\, Gordie Wilson has served as Superintendent of the Castillo de San Marcos and Fort Matanzas National Monuments\, two of the most iconic and significant historic sites in the United States. Under his stewardship\, millions of dollars were directed toward preservation projects\, including stabilization of the Castillo’s terreplein\, conservation of historic cannons\, and planning for the protection of the Castillo seawall. His leadership ensured that both the oldest masonry fort in the continental U.S. and Fort Matanzas’ 18th-century Spanish watchtower were preserved for the future. \nWilson’s career with the National Park Service spans more than 45 years\, during which he championed strategic preservation planning\, community partnerships\, and nationally recognized preservation initiatives. He established cooperative agreements with the University of Florida\, Florida National Guard\, and local organizations\, fostered collaborations with Tribal Historic Preservation Offices\, and ensured that preservation efforts reflected both historical integrity and cultural respect. \nBeyond his federal service\, Wilson’s contributions to St. Augustine’s civic life have been equally significant. He served as President of the St. Augustine Historical Society’s Board of Trustees\, chaired the Presidio Commission\, and served for over a decade on the City of St. Augustine Historic Preservation Advisory Committee. He was also appointed to the Congressionally authorized St. Augustine 450th Commemoration Commission. Through these roles\, he has worked tirelessly to safeguard and interpret St. Augustine’s historic fabric. \nThe Herschel Shepard Award\, established by the St. Augustine Historical Society\, honors the legacy of architect Herschel E. Shepard\, whose career exemplifies the highest standards of scholarship\, advocacy\, and preservation practice. \nIn the spirit of Shepard’s legacy\, Gordie Wilson’s extraordinary career reflects the very essence of this award—visionary leadership\, technical expertise\, and deep commitment to protecting St. Augustine’s historic resources. \nThe St. Augustine Historical Society congratulates Gordie Wilson on this well-deserved recognition and thanks him for his enduring service to the preservation of America’s oldest city.[/vc_column_text][/vc_column][/vc_row]
URL:https://www.staugustinehistoryfestival.com/event/dr-christina-miller-uf-school-of-medicine-colonial-medical-practices/
LOCATION:St. Augustine Historical Society/Oldest House\, 14 St. Francis Street\, St. Augustine\, FL\, 32084\, United States
CATEGORIES:Featured
ATTACH;FMTTYPE=image/jpeg:https://www.staugustinehistoryfestival.com/wp-content/uploads/2022/04/grounds-of-the-old-house.jpg
GEO:29.8880606;-81.3100482
X-APPLE-STRUCTURED-LOCATION;VALUE=URI;X-ADDRESS=St. Augustine Historical Society/Oldest House 14 St. Francis Street St. Augustine FL 32084 United States;X-APPLE-RADIUS=500;X-TITLE=14 St. Francis Street:geo:-81.3100482,29.8880606
END:VEVENT
BEGIN:VEVENT
DTSTART;TZID=America/New_York:20260508T140000
DTEND;TZID=America/New_York:20260508T170000
DTSTAMP:20260425T091253
CREATED:20260319T212150Z
LAST-MODIFIED:20260413T153618Z
UID:10000468-1778248800-1778259600@www.staugustinehistoryfestival.com
SUMMARY:St. Augustine Historical Society
DESCRIPTION:[vc_row][vc_column][vc_column_text css=””] \nDr. Christine Miller\, DPM\, Ph.D.\, CWP\, FACCWA\, MCSFS\n“Medical Professions in the Spanish Colonies” \nFriday\, May 8\, from 2:00-3:00 p.m.\nFor those who think that living in days-gone-by sounds romantic and adventurous\, you may want to give that another thought – modern medical practices are going to sound pretty good after hearing Dr. Miller’s insight on procedures and understandings in the pre-sterilization era of medicine where science and medicinal folklore are constantly at odds!\n\n  \nFor part two of our Double Feature\, stay with us for another wonderful talk:\n“The Historical Drama of Governor Tonyn”\nFriday\, May 8\, 2025\, at 4 pm at the Dunham Map Gallery at the Oldest House Museum Complex\nSpeaker: Nicole Diehm\n\n[/vc_column_text][/vc_column][/vc_row]
URL:https://www.staugustinehistoryfestival.com/event/dr-christina-miller-uf-school-of-medicine-colonial-medical-practices-2/
LOCATION:St. Augustine Historical Society/Oldest House\, 14 St. Francis Street\, St. Augustine\, FL\, 32084\, United States
CATEGORIES:Featured
ATTACH;FMTTYPE=image/jpeg:https://www.staugustinehistoryfestival.com/wp-content/uploads/2022/04/grounds-of-the-old-house.jpg
GEO:29.8880606;-81.3100482
X-APPLE-STRUCTURED-LOCATION;VALUE=URI;X-ADDRESS=St. Augustine Historical Society/Oldest House 14 St. Francis Street St. Augustine FL 32084 United States;X-APPLE-RADIUS=500;X-TITLE=14 St. Francis Street:geo:-81.3100482,29.8880606
END:VEVENT
END:VCALENDAR