BEGIN:VCALENDAR
VERSION:2.0
PRODID:-//St. Augustine History Festival - ECPv6.15.12//NONSGML v1.0//EN
CALSCALE:GREGORIAN
METHOD:PUBLISH
X-WR-CALNAME:St. Augustine History Festival
X-ORIGINAL-URL:https://www.staugustinehistoryfestival.com
X-WR-CALDESC:Events for St. Augustine History Festival
REFRESH-INTERVAL;VALUE=DURATION:PT1H
X-Robots-Tag:noindex
X-PUBLISHED-TTL:PT1H
BEGIN:VTIMEZONE
TZID:America/New_York
BEGIN:DAYLIGHT
TZOFFSETFROM:-0500
TZOFFSETTO:-0400
TZNAME:EDT
DTSTART:20250309T070000
END:DAYLIGHT
BEGIN:STANDARD
TZOFFSETFROM:-0400
TZOFFSETTO:-0500
TZNAME:EST
DTSTART:20251102T060000
END:STANDARD
BEGIN:DAYLIGHT
TZOFFSETFROM:-0500
TZOFFSETTO:-0400
TZNAME:EDT
DTSTART:20260308T070000
END:DAYLIGHT
BEGIN:STANDARD
TZOFFSETFROM:-0400
TZOFFSETTO:-0500
TZNAME:EST
DTSTART:20261101T060000
END:STANDARD
BEGIN:DAYLIGHT
TZOFFSETFROM:-0500
TZOFFSETTO:-0400
TZNAME:EDT
DTSTART:20270314T070000
END:DAYLIGHT
BEGIN:STANDARD
TZOFFSETFROM:-0400
TZOFFSETTO:-0500
TZNAME:EST
DTSTART:20271107T060000
END:STANDARD
END:VTIMEZONE
BEGIN:VEVENT
DTSTART;TZID=America/New_York:20260510T150000
DTEND;TZID=America/New_York:20260510T170000
DTSTAMP:20260419T124735
CREATED:20230308T144031Z
LAST-MODIFIED:20260404T142837Z
UID:10000011-1778425200-1778432400@www.staugustinehistoryfestival.com
SUMMARY:First Congregation Sons of Israel
DESCRIPTION:We would like to express our heartfelt thanks to congregation members Rene and Heather Naughton\, Suzanne and Dan Lichter\, Bob Blau\, and Rachel and Neal Hecker for their invaluable assistance during the St. Augustine History Festival.\n\n\n\nDuring these festivals\, we provided tours of our historic synagogue and cemetery\, hosted a book talk and signing\, and presented a “Best of Barbra Streisand” concert featuring the talented singer-songwriter Yael Zaza and guitarist Gabriel Hermida.\n\n\n\nWe extend our gratitude to the St. Augustine History Festival and Romanza St. Augustine for allowing us to participate in these extraordinary events. We look forward to joining again next year\, from May 6th to 10th\, 2026!
URL:https://www.staugustinehistoryfestival.com/event/first-congregation-sons-of-isreal/
LOCATION:First Sons of Isreal Synagogue\, 161 Cordova St.\, St. Augustine\, 32084\, United States
CATEGORIES:Featured
ATTACH;FMTTYPE=image/jpeg:https://www.staugustinehistoryfestival.com/wp-content/uploads/2024/02/IMG_4235-scaled.jpg
GEO:29.8888005;-81.3122307
X-APPLE-STRUCTURED-LOCATION;VALUE=URI;X-ADDRESS=First Sons of Isreal Synagogue 161 Cordova St. St. Augustine 32084 United States;X-APPLE-RADIUS=500;X-TITLE=161 Cordova St.:geo:-81.3122307,29.8888005
END:VEVENT
END:VCALENDAR