BEGIN:VCALENDAR
VERSION:2.0
PRODID:-//St. Augustine History Festival - ECPv6.15.12//NONSGML v1.0//EN
CALSCALE:GREGORIAN
METHOD:PUBLISH
X-ORIGINAL-URL:https://www.staugustinehistoryfestival.com
X-WR-CALDESC:Events for St. Augustine History Festival
REFRESH-INTERVAL;VALUE=DURATION:PT1H
X-Robots-Tag:noindex
X-PUBLISHED-TTL:PT1H
BEGIN:VTIMEZONE
TZID:America/New_York
BEGIN:DAYLIGHT
TZOFFSETFROM:-0500
TZOFFSETTO:-0400
TZNAME:EDT
DTSTART:20230312T070000
END:DAYLIGHT
BEGIN:STANDARD
TZOFFSETFROM:-0400
TZOFFSETTO:-0500
TZNAME:EST
DTSTART:20231105T060000
END:STANDARD
BEGIN:DAYLIGHT
TZOFFSETFROM:-0500
TZOFFSETTO:-0400
TZNAME:EDT
DTSTART:20240310T070000
END:DAYLIGHT
BEGIN:STANDARD
TZOFFSETFROM:-0400
TZOFFSETTO:-0500
TZNAME:EST
DTSTART:20241103T060000
END:STANDARD
BEGIN:DAYLIGHT
TZOFFSETFROM:-0500
TZOFFSETTO:-0400
TZNAME:EDT
DTSTART:20250309T070000
END:DAYLIGHT
BEGIN:STANDARD
TZOFFSETFROM:-0400
TZOFFSETTO:-0500
TZNAME:EST
DTSTART:20251102T060000
END:STANDARD
BEGIN:DAYLIGHT
TZOFFSETFROM:-0500
TZOFFSETTO:-0400
TZNAME:EDT
DTSTART:20260308T070000
END:DAYLIGHT
BEGIN:STANDARD
TZOFFSETFROM:-0400
TZOFFSETTO:-0500
TZNAME:EST
DTSTART:20261101T060000
END:STANDARD
BEGIN:DAYLIGHT
TZOFFSETFROM:-0500
TZOFFSETTO:-0400
TZNAME:EDT
DTSTART:20270314T070000
END:DAYLIGHT
BEGIN:STANDARD
TZOFFSETFROM:-0400
TZOFFSETTO:-0500
TZNAME:EST
DTSTART:20271107T060000
END:STANDARD
END:VTIMEZONE
BEGIN:VEVENT
DTSTART;TZID=America/New_York:20260401T000000
DTEND;TZID=America/New_York:20260401T000000
DTSTAMP:20260419T114302
CREATED:20260402T025941Z
LAST-MODIFIED:20260402T030421Z
UID:10000470-1775001600-1775001600@www.staugustinehistoryfestival.com
SUMMARY:Duel on Aviles Street!
DESCRIPTION:[vc_row][vc_column][vc_column_text css=””] \nThe Duel on Aviles Street is one of the most popular events during the St. Augustine History Festival. These folks go all out to give attendees a great show – and every year it’s different!\nJoin us for this thrilling display of colonial intrigue and firearms on Saturday\, May 9\, at 1:00 p.m.\nAs a special bonus\, the staff at the Spanish Military Hospital invites you to take a FREE look Behind the Scenes with us from 11:00 ~ 12:30\, before the Dual on Aviles.\n\n[/vc_column_text][/vc_column][/vc_row][vc_row][vc_column][/vc_column][/vc_row][vc_row][vc_column][/vc_column][/vc_row]
URL:https://www.staugustinehistoryfestival.com/event/duel-on-aviles-street-3/
CATEGORIES:Featured
ATTACH;FMTTYPE=image/jpeg:https://www.staugustinehistoryfestival.com/wp-content/uploads/2024/04/Guns-1.jpg
END:VEVENT
BEGIN:VEVENT
DTSTART;TZID=America/New_York:20250509T170000
DTEND;TZID=America/New_York:20250509T183000
DTSTAMP:20260419T114302
CREATED:20250212T225201Z
LAST-MODIFIED:20250524T015508Z
UID:10000453-1746810000-1746815400@www.staugustinehistoryfestival.com
SUMMARY:Marineland/Flagler College Lifelong Learning
DESCRIPTION:Marineland Dolphin Adventure was another first-time historic attraction to the join the 2025 St. Augustine History Festival. So what better way to begin this relationship than for Marineland and Flagler College’s Lifelong Learning program to collaborate for a discussion on the world’s first Oceanarium! Our guest speaker\, Marineland Historian Terran McGinnis\, was gracious enough to share several of her slides from her talk. For a full description of this Special Event\, continue scrolling after viewing the fun photos. Pay close attention to the slide that lists all of Marineland’s fascinating “Firsts!” Stay tuned for what 2026 will bring!\n\n \nJoin Flagler College Lifelong Learning as we travel back in time to 1938 for the grand opening of Marine Studios: The world’s first oceanarium and underwater film studio. From Florida tourism to literary greats to architectural styles to marine science – so many firsts in history happened at Marineland and it’s still happening today! Learn all about the past\, present\, and future of this famous marine science facility.\nThis will be a special event\, indeed!\nWho: Marineland Historian Terran McGinnis\nWhen: Friday\, May 9 (2025)\nTime: 5:00pm-6:30pm\nWhere: Flagler College Pollard Hall\, Room 110\, at 31 Cordova Street – right next to the Maple Street Biscuit Company!\n \nParking at Flagler College not included with this event.
URL:https://www.staugustinehistoryfestival.com/event/a-discussion-on-worlds-first-oceanarium/
LOCATION:Pollard Hall at Flagler College\, 31 Cordova S\, Saint Augustine\, FL\, 32084\, United States
CATEGORIES:Featured
ATTACH;FMTTYPE=image/jpeg:https://www.staugustinehistoryfestival.com/wp-content/uploads/2025/02/Marineland-Main.jpg
GEO:29.8955064;-81.3145347
X-APPLE-STRUCTURED-LOCATION;VALUE=URI;X-ADDRESS=Pollard Hall at Flagler College 31 Cordova S Saint Augustine FL 32084 United States;X-APPLE-RADIUS=500;X-TITLE=31 Cordova S:geo:-81.3145347,29.8955064
END:VEVENT
BEGIN:VEVENT
DTSTART;TZID=America/New_York:20250509T130000
DTEND;TZID=America/New_York:20250509T160000
DTSTAMP:20260419T114302
CREATED:20220307T152915Z
LAST-MODIFIED:20250524T024026Z
UID:10000009-1746795600-1746806400@www.staugustinehistoryfestival.com
SUMMARY:Fort Mose Historical Society
DESCRIPTION:During the 2025 St. Augustine History Festival\, the Fort Mose Historical Society held a ribbon cutting ceremony to celebrate the opening of their new replica of the original Fort Mose. It was two full days of guest speakers\, dignitaries\, and free Ben & Jerry’s ice cream! For a full description of this Special Event\, continue scrolling after viewing the fun photos. Stay tuned for what 2026 will bring!\n \n  \n \n \n\nFrom 1:30~2:10\, Historian Dr. David Nolan will speak on “The Intertwined Histories of Fort Mose and St. Augustine\,” plus many other programs for all!\n  \n 
URL:https://www.staugustinehistoryfestival.com/event/fort-mose-historical-society/
LOCATION:Fort Mose State Park and Museum\, 15 Fort Mose Trail\, St. Augustine\, FL\, 32084\, United States
CATEGORIES:Featured
ATTACH;FMTTYPE=image/jpeg:https://www.staugustinehistoryfestival.com/wp-content/uploads/2022/02/fort-mose.jpg
GEO:29.9292303;-81.3250231
X-APPLE-STRUCTURED-LOCATION;VALUE=URI;X-ADDRESS=Fort Mose State Park and Museum 15 Fort Mose Trail St. Augustine FL 32084 United States;X-APPLE-RADIUS=500;X-TITLE=15 Fort Mose Trail:geo:-81.3250231,29.9292303
END:VEVENT
BEGIN:VEVENT
DTSTART;TZID=America/New_York:20250508T180000
DTEND;TZID=America/New_York:20250508T190000
DTSTAMP:20260419T114302
CREATED:20220307T145357Z
LAST-MODIFIED:20250524T020311Z
UID:10000001-1746727200-1746730800@www.staugustinehistoryfestival.com
SUMMARY:Flagler College and Minorcan History
DESCRIPTION:Flagler College professor Dr. Darien Andreu is one of the nation’s top historians of Minorcan culture. For a full description of this Special Event\, continue scrolling after viewing the fun photos. Stay tuned for what 2026 will bring!\n\nJoin Dr. Darien Andreu\, professor and Director of the Minorcan Studies Project\, Flagler College on Thursday\, May 8 from 6:00-7:00 p.m. for her talk\, “Flagler College and Minorcan History.” The focus of Dr. Andreu’s talk will be on Flagler/Minorcan connections with the Dr. Andrew Anderson Family\, Stephen Vincent Benét\, and the Minorcan Well. Join us for this interesting piece of St. Augustine history! This is a free event in Gamache Theater\, Flagler College. Participants must be 18+. \nTitle: Flagler College and Minorcan History with Dr. Darien Andreu\nDate: Thurs.\, May 8 (2025)\nTime: 6:00-7:00 p.m. Refreshments after from 7:00-7:30 p.m.\nLocation:  Gamache Theater\, First Floor\, Ringhaver Student Center at Flagler College\nAddress: 50 Sevilla St.\, St. Augustine\, FL 32084\nParking at Flagler College not included with this event.
URL:https://www.staugustinehistoryfestival.com/event/flagler-college-and-minorcan-history/
LOCATION:Ringhaver Student Center\, Flagler College\, 50 Sevilla\, Saint Augustine\, FL\, 32084\, United States
CATEGORIES:Featured
ATTACH;FMTTYPE=image/jpeg:https://www.staugustinehistoryfestival.com/wp-content/uploads/2022/03/ringhaver-student-center-final.jpg
GEO:29.8921389;-81.3162346
X-APPLE-STRUCTURED-LOCATION;VALUE=URI;X-ADDRESS=Ringhaver Student Center Flagler College 50 Sevilla Saint Augustine FL 32084 United States;X-APPLE-RADIUS=500;X-TITLE=50 Sevilla:geo:-81.3162346,29.8921389
END:VEVENT
BEGIN:VEVENT
DTSTART;TZID=America/New_York:20250508T170000
DTEND;TZID=America/New_York:20250508T190000
DTSTAMP:20260419T114302
CREATED:20250224T215809Z
LAST-MODIFIED:20250524T001813Z
UID:10000456-1746723600-1746730800@www.staugustinehistoryfestival.com
SUMMARY:Evenings at Whitney
DESCRIPTION:The UF/Whitney Lab joined the St. Augustine History Festival for the first time in 2025. The lab’s new executive director\, Dr. Veronica Hinman\, shared information about the research being done at Whitney Lab that is changing how we understand things. They’re also just months away from completing their new Turtle Hospital! For a full description of this Special Event\, continue scrolling after viewing the fun photos. Stay tuned for what 2026 will bring!\n \nEvenings at Whitney! Come hear Dr. Veronica Hinman\, Executive Director of the UF/Whitney Laboratory\, as she brings new levels of research and display to the UF/Whitney Lab.\n\n5:00-6:00p.m.: Center for Marine Studies building open with display about Whitney Laboratory history along with Sea Turtle Hospital gift shop items for sale.\n6:00-7:00p.m.: Nature’s Repair Kit: The Science of Sea Star Regeneration with Dr. Veronica Hinman\, Whitney Laboratory Director and Professor of Biology\nThis free lecture will be presented in person at the UF Whitney Laboratory Lohman Auditorium\, 9505 Ocean Shore Boulevard\, in St. Augustine. Those interested also have the option of registering to watch via Zoom live the night of the lecture.
URL:https://www.staugustinehistoryfestival.com/event/duel-on-aviles-street-2/
LOCATION:UF/Whitney Laboratory for Marine Bioscience\, 9505 Ocean Shore Blvd.\, St. Augustine\, FL\, 32080\, United States
CATEGORIES:Featured
ATTACH;FMTTYPE=image/webp:https://www.staugustinehistoryfestival.com/wp-content/uploads/2025/02/ghows-LK-7dc63a1f-0886-798b-e053-0100007f51f4-183db9e3-scaled.webp
GEO:29.6702514;-81.2144592
X-APPLE-STRUCTURED-LOCATION;VALUE=URI;X-ADDRESS=UF/Whitney Laboratory for Marine Bioscience 9505 Ocean Shore Blvd. St. Augustine FL 32080 United States;X-APPLE-RADIUS=500;X-TITLE=9505 Ocean Shore Blvd.:geo:-81.2144592,29.6702514
END:VEVENT
BEGIN:VEVENT
DTSTART;TZID=America/New_York:20250508T170000
DTEND;TZID=America/New_York:20250508T180000
DTSTAMP:20260419T114302
CREATED:20240404T203751Z
LAST-MODIFIED:20250524T025458Z
UID:10000446-1746723600-1746727200@www.staugustinehistoryfestival.com
SUMMARY:National Shrine of Our Lady of la Leche
DESCRIPTION:Every year since our inception\, the National Shrine Our Lady la Leche offers academic talks of the greatest proportions for the St. Augustine History Festival. 2025 was no exception! For a full description of this Special Event continue scrolling. Stay tuned for what 2026 will bring!\n\nThe Diocesan Archives at the National Shrine of Our Lady of la Leche is proud to announce that Dr. Trevor Bryant of Flagler College will be speaking on the topic Enslavement During the First Spanish Period. This is part of larger historical research on how people of Color helped build the Catholic Church in St. Augustine. Dr. Bryant is a brilliant scholar and highly sought-after speaker – just ask his students! Please click on the following link to reserved your seats for this wonderful event. https://DomingodeJesus.eventbrite.com\nProfessor Bryant graduated from the University of South Florida\, St. Petersburg\, with a B.A. in History and an M.L.A. in Florida Studies. He received his Doctorate from Florida International University\, where he specialized in colonial Atlantic history\, specifically emphasizing Colonial Latin America\, the Caribbean\, and Atlantic Slavery.\nHis primary research focuses on how people from all over the Atlantic world passed through Florida\, linking the Spanish Caribbean to the Southern British Colonies. At Flagler\, Professor Bryant teaches a variety of classes on colonialism in U.S. and Latin American History that encourage students to challenge preconceived ideas about colonialism in North America to develop transferable skills that translate to any career after college.
URL:https://www.staugustinehistoryfestival.com/event/national-shrine-of-our-lady-la-leche/
LOCATION:Nombre de Dios Historic Grounds and Gardens\, 101 San Marco Ave.\, St. Augustine\, FL\, 32084\, United States
CATEGORIES:Featured
ATTACH;FMTTYPE=image/jpeg:https://www.staugustinehistoryfestival.com/wp-content/uploads/2024/04/cross-nombre-de-dios-25x15-WEB.jpg
GEO:29.8921835;-81.3139313
X-APPLE-STRUCTURED-LOCATION;VALUE=URI;X-ADDRESS=Nombre de Dios Historic Grounds and Gardens 101 San Marco Ave. St. Augustine FL 32084 United States;X-APPLE-RADIUS=500;X-TITLE=101 San Marco Ave.:geo:-81.3139313,29.8921835
END:VEVENT
BEGIN:VEVENT
DTSTART;TZID=America/New_York:20250507T180000
DTEND;TZID=America/New_York:20250507T190000
DTSTAMP:20260419T114302
CREATED:20240404T204922Z
LAST-MODIFIED:20250524T015633Z
UID:10000447-1746640800-1746644400@www.staugustinehistoryfestival.com
SUMMARY:St. Augustine Lighthouse and Maritime Museum
DESCRIPTION:We enjoyed such an amazing panel discussion on the saving and historical restoration of the St. Augustine Lighthouse. For a full description of this Special Event\, continue scrolling after viewing the fun photos. Stay tuned for what 2026 will bring!\n \nSt. Augustine Lighthouse and Maritime Museum – Meet the Experts! A Special St. Augustine History Festival Event\nA panel discussion with incredible experts from the St. Augustine area about historic preservation efforts that have taken place over the years at the Lighthouse \nSave the date: May 7 (2025) from 6:00pm – 7:00pm\nPlace: St. Augustine Lighthouse Keepers House\n100 Red Cox Road\, St. Augustine\, FL\nFREE event – please RSVP here: (copy and paste links onto web browser) https://store.staugustinelighthouse.org/EventPurchase.aspx?dateselected=5/7/2025\nFind more St. Augustine History Festival events at www.staugustinehistoryfestival.com\n \n 
URL:https://www.staugustinehistoryfestival.com/event/tbd/
LOCATION:St. Augustine Lighthouse and Maritime Museum\, 100 Red Cox Road\, St. Augustine\, FL\, 32080\, United States
CATEGORIES:Featured
ATTACH;FMTTYPE=image/jpeg:https://www.staugustinehistoryfestival.com/wp-content/uploads/2022/02/lighthousebuildingtower1-10x6-web.jpg
GEO:29.8850065;-81.2880584
X-APPLE-STRUCTURED-LOCATION;VALUE=URI;X-ADDRESS=St. Augustine Lighthouse and Maritime Museum 100 Red Cox Road St. Augustine FL 32080 United States;X-APPLE-RADIUS=500;X-TITLE=100 Red Cox Road:geo:-81.2880584,29.8850065
END:VEVENT
BEGIN:VEVENT
DTSTART;TZID=America/New_York:20240512T150000
DTEND;TZID=America/New_York:20240512T170000
DTSTAMP:20260419T114302
CREATED:20240404T221221Z
LAST-MODIFIED:20240417T210552Z
UID:10000448-1715526000-1715533200@www.staugustinehistoryfestival.com
SUMMARY:First Congregation of the Sons of Israel Presents:
DESCRIPTION:The Oldest City’s Oldest Synagogue\nFirst Congregation Sons of Israel has been worshipping in the same synagogue building for 100 years.  To commemorate the community’s centennial year\, congregant Robert Blau published a book on the origins of the local Jewish community\, and will do a presentation and book signing as part of this year’s St. Augustine History Festival. \n \nDate: Sunday\, May 12 \nTime: 3:00 to 5:00 p.m. \nPlace: The Synagogue’s sanctuary\, 161 Cordova Street. \nBooks will be available for purchase at the discounted price of $10.00 each.  Otherwise the book is available at Barnes and Noble online:  https://www.barnesandnoble.com/w/the-oldest-citys-oldest-synagogue-robert-blau/1143885992  Proceeds from the sale go to the synagogue.
URL:https://www.staugustinehistoryfestival.com/event/first-congregation-of-the-sons-of-israel-presents/
CATEGORIES:Featured
ATTACH;FMTTYPE=image/jpeg:https://www.staugustinehistoryfestival.com/wp-content/uploads/2024/02/straight-on-photo.jpg
END:VEVENT
BEGIN:VEVENT
DTSTART;TZID=America/New_York:20240511T150000
DTEND;TZID=America/New_York:20240511T163000
DTSTAMP:20260419T114302
CREATED:20220415T121534Z
LAST-MODIFIED:20240417T012649Z
UID:10000005-1715439600-1715445000@www.staugustinehistoryfestival.com
SUMMARY:The Lincolnville Museum & Cultural Center
DESCRIPTION:[vc_row][vc_column][/vc_column][/vc_row]
URL:https://www.staugustinehistoryfestival.com/event/15958/
LOCATION:Lincolnville Museum and Cultural Center\, 102 M L King Ave\, St. Augustine\, FL\, 30284\, United States
CATEGORIES:Featured
ATTACH;FMTTYPE=image/jpeg:https://www.staugustinehistoryfestival.com/wp-content/uploads/2022/04/lincolnville.jpg
GEO:29.8856189;-81.3150779
X-APPLE-STRUCTURED-LOCATION;VALUE=URI;X-ADDRESS=Lincolnville Museum and Cultural Center 102 M L King Ave St. Augustine FL 30284 United States;X-APPLE-RADIUS=500;X-TITLE=102 M L King Ave:geo:-81.3150779,29.8856189
END:VEVENT
BEGIN:VEVENT
DTSTART;TZID=America/New_York:20240510T150000
DTEND;TZID=America/New_York:20240510T160000
DTSTAMP:20260419T114302
CREATED:20240408T183830Z
LAST-MODIFIED:20240408T184924Z
UID:10000449-1715353200-1715356800@www.staugustinehistoryfestival.com
SUMMARY:City of St. Augustine
DESCRIPTION:
URL:https://www.staugustinehistoryfestival.com/event/city-of-st-augustine/
CATEGORIES:Featured
ATTACH;FMTTYPE=image/jpeg:https://www.staugustinehistoryfestival.com/wp-content/uploads/2024/04/StAugCityHall_LichtnerMuseum.jpg
END:VEVENT
BEGIN:VEVENT
DTSTART;TZID=America/New_York:20240510T130000
DTEND;TZID=America/New_York:20240510T160000
DTSTAMP:20260419T114302
CREATED:20240423T201423Z
LAST-MODIFIED:20240509T233607Z
UID:10000451-1715346000-1715356800@www.staugustinehistoryfestival.com
SUMMARY:Peña-Peck House Museum
DESCRIPTION:Woman’s Exchange of St. Augustine Welcomes the St. Augustine History Festival\, May 8-11 \nVisitors to St. Augustine’s Third Annual History Festival\, May 8-11\, will step into significant history and cultural heritage when they cross The Peña-Peck House threshold at 143 St. George Street in downtown St. Augustine. The Woman’s Exchange of St. Augustine has blended history with helping others succeed as artisan crafters since 1892. \nThe History Festival is sponsored by University of Florida Historic St. Augustine\, Inc.\, and the Lastinger Learning Foundation\, Inc. Presentations at The Peña-Peck House will be offered May 9th and 10th in the garden under the tent. \nPresentations: \n \n\n\n\n\nMay 10\, 1:00 p.m.        Marsha Chance\, Curatorial Chair of the Woman’s Exchange of St. Augustine\, and an Archeologist\, will present “Historic Gardens of Spain and the Pena-Peck House: Traveling Plants” \nMay 10\, 3:00 p.m.          Dr. Susan Richbourg Parker\, Historian whose specialty is Spanish Colonial History\, will talk about “From Mother to Daughter to Granddaughter and Beyond: Female Property Owners in colonial St. Augustine.” \n  \nAll talks are free of charge. Each speaker will follow their presentation with a Question – and – Answer session between the audience and the speaker. \nVisitors are also invited to tour The Peña-Peck House\, May 8-11\, noon to 4 p.m. On these docent-led tours\, visitors will hear stories of two centuries of occupants and view the art and furnishings of the Peck-Burt families\, 1737-1931. The last occupant\, Anna Gardner Burt\, granddaughter of Dr. Seth and Sarah Peck\, and daughter of George and Lucy Peck Burt\, left the home to the City of St. Augustine upon her death in 1931\, to be shown as an “antebellum home of the South.” \nThe Woman’s Exchange agreed in 1932 to show the home to visitors in exchange for the city allowing the organization to open its artisan-consignor-based gift shop in the home. Tour donations are gratefully accepted with proceeds supporting our scholarship fund for women over age 30 advancing their career skills. \n  \nThe mission of the Woman’s Exchange is to help women enhance their economic stability\, promote local artisans and preserve and show the historic Peña-Peck House. \nOur vision is to be an inspiration to our community and for The Peña-Peck House to be a landmark destination for visitors. We are highly respected in our community for our scholarships\, artisan support\, historic preservation and educational programs that showcase the impact the Peña-Peck House residents had locally\, in the region and the nation. \n\n\n\n\n\n\n\n\n\nTour the historic Peña-Peck House to develop a better understanding of the culture of the times. Whether you are an art enthusiast\, a history buff or a master-gardener\, there is plenty for you to see\, learn and enjoy. The Pecks were patrons of 19th century art and antique furniture and much of their priceless collection still remains. Our award-winning ornamental gardens with native flora are a wonderful place to relax and step back in time. Docents delight in showing this home with its old world charm and telling the stories of the people who lived here and the times in which they lived. Our docents bring its life full circle as they walk you through this home amidst the Peck-Burt families collection of 19th-century art and antique furnishings. There is no charge for tours but donations are appreciated. All donations go to preservation of the house or The Woman’s Exchange Scholarship Fund for women over 30 returning to school. We invite you to cross our threshold on St. George Street and step into a history that is unique in all of St. Augustine.
URL:https://www.staugustinehistoryfestival.com/event/pena-peck-house-museum/
CATEGORIES:Featured
ATTACH;FMTTYPE=image/jpeg:https://www.staugustinehistoryfestival.com/wp-content/uploads/2022/02/flowers-and-courtyard-PPH.jpeg
END:VEVENT
END:VCALENDAR